BEGIN:VCALENDAR
VERSION:2.0
PRODID:-//eventon.com NONSGML v1.0//EN
CALSCALE:GREGORIAN
METHOD:PUBLISH
BEGIN:VEVENT
UID:69e8a8439e35d
DTSTAMP:20260422T105147Z
DTSTART:20260504T090000Z
DTEND:20260504T120000Z
LOCATION:Campus Trotabas - Faculté de droit et science politique - Université Côte d&#039;Azur 38 Av. Emile Henriot
SUMMARY:À qui appartiennent les rivières ?
DESCRIPTION:Conférence de Alice INGOLD\,  directrice d&rsquo;études à l&
 rsquo;EHESS  Au XIXe siècle\,  les cours d’eau sont au cœur de proces
 sus de modernisation successifs – agricole\,  urbain\,  industriel\,  én
 ergétique. Agronomes et propriétaires fonciers\,  ingénieurs et experts 
 de la nature\,  hygiénistes et urbanistes\,  industriels et entrepreneurs 
 de travaux publics\,  placent successivement leurs espoirs dans[..]\nhttps:
 //imredd.fr/events/a-qui-appartiennent-les-rivieres/
URL:https://imredd.fr/events/a-qui-appartiennent-les-rivieres/
END:VEVENT
END:VCALENDAR