BEGIN:VCALENDAR
VERSION:2.0
PRODID:-//eventon.com NONSGML v1.0//EN
CALSCALE:GREGORIAN
METHOD:PUBLISH
BEGIN:VEVENT
UID:69e8a9fedd2fb
DTSTAMP:20260422T105910Z
DTSTART:20260528T084500Z
DTEND:20260528T164500Z
LOCATION:IMREDD 9 rue Julien Lauprêtre
SUMMARY:Journée thématique « Enjeux Énergétiques »
DESCRIPTION:Comme chaque année\,  l&rsquo;Académie 3 « Territoires\,  E
 nvironnements\,  Risques et Résilience » organise une journée thématiq
 ue afin de faire se rencontrer étudiants\,  enseignants-chercheurs et expe
 rts scientifiques. En 2026\,  c&rsquo;est la thématique très large des «
  Enjeux énergétiques » qui a été retenue.  *** RENDEZ-VOUS le 28 Ma
 i 2026\,  à 9h30 à l&rsquo;IMREDD *** Inscription[..]\nhttps://imredd.fr/
 events/journee-thematique-enjeux-energetiques/
URL:https://imredd.fr/events/journee-thematique-enjeux-energetiques/
END:VEVENT
END:VCALENDAR